BEGIN:VCALENDAR
VERSION:2.0
PRODID:-//Well with God - ECPv6.15.20//NONSGML v1.0//EN
CALSCALE:GREGORIAN
METHOD:PUBLISH
X-WR-CALNAME:Well with God
X-ORIGINAL-URL:https://www.wellwithgod.com
X-WR-CALDESC:Events for Well with God
REFRESH-INTERVAL;VALUE=DURATION:PT1H
X-Robots-Tag:noindex
X-PUBLISHED-TTL:PT1H
BEGIN:VTIMEZONE
TZID:America/Cancun
BEGIN:STANDARD
TZOFFSETFROM:-0500
TZOFFSETTO:-0500
TZNAME:EST
DTSTART:20190101T000000
END:STANDARD
END:VTIMEZONE
BEGIN:VTIMEZONE
TZID:America/Chihuahua
BEGIN:DAYLIGHT
TZOFFSETFROM:-0700
TZOFFSETTO:-0600
TZNAME:MDT
DTSTART:20190407T090000
END:DAYLIGHT
BEGIN:STANDARD
TZOFFSETFROM:-0600
TZOFFSETTO:-0700
TZNAME:MST
DTSTART:20191027T080000
END:STANDARD
BEGIN:DAYLIGHT
TZOFFSETFROM:-0700
TZOFFSETTO:-0600
TZNAME:MDT
DTSTART:20200405T090000
END:DAYLIGHT
BEGIN:STANDARD
TZOFFSETFROM:-0600
TZOFFSETTO:-0700
TZNAME:MST
DTSTART:20201025T080000
END:STANDARD
BEGIN:DAYLIGHT
TZOFFSETFROM:-0700
TZOFFSETTO:-0600
TZNAME:MDT
DTSTART:20210404T090000
END:DAYLIGHT
BEGIN:STANDARD
TZOFFSETFROM:-0600
TZOFFSETTO:-0700
TZNAME:MST
DTSTART:20211031T080000
END:STANDARD
END:VTIMEZONE
BEGIN:VEVENT
DTSTART;TZID=America/Cancun:20201020T190000
DTEND;TZID=America/Cancun:20201020T200000
DTSTAMP:20260423T123717
CREATED:20201011T215235Z
LAST-MODIFIED:20201011T215235Z
UID:507-1603220400-1603224000@www.wellwithgod.com
SUMMARY:Hackberry Creek Women's Club
DESCRIPTION:
URL:https://www.wellwithgod.com/event/hackberry-creek-womens-club/
LOCATION:Irving\, Irving\, TX
END:VEVENT
BEGIN:VEVENT
DTSTART;TZID=America/Chihuahua:20201012T050000
DTEND;TZID=America/Chihuahua:20201012T100000
DTSTAMP:20260423T123717
CREATED:20201011T214926Z
LAST-MODIFIED:20201011T214926Z
UID:505-1602478800-1602496800@www.wellwithgod.com
SUMMARY:WDJC-FM Roxann & Ace
DESCRIPTION:This is a recorded event\, air date 10/17
URL:https://www.wellwithgod.com/event/wdjc-fm-roxann-ace/
END:VEVENT
BEGIN:VEVENT
DTSTART;TZID=America/Cancun:20201008T164000
DTEND;TZID=America/Cancun:20201008T170000
DTSTAMP:20260423T123717
CREATED:20201011T214554Z
LAST-MODIFIED:20201011T215313Z
UID:501-1602175200-1602176400@www.wellwithgod.com
SUMMARY:WMUZ-FM Chris Ayotte
DESCRIPTION:This is a LIVE event
URL:https://www.wellwithgod.com/event/wmuz-fm-chris-ayotte/
LOCATION:Detroit\, MI
END:VEVENT
BEGIN:VEVENT
DTSTART;TZID=America/Cancun:20200930T000000
DTEND;TZID=America/Cancun:20200930T000000
DTSTAMP:20260423T123717
CREATED:20201011T220400Z
LAST-MODIFIED:20201011T220400Z
UID:518-1601424000-1601424000@www.wellwithgod.com
SUMMARY:Part TWO with Kim Wier\, Hope on Demand Podcast
DESCRIPTION:
URL:https://www.wellwithgod.com/event/part-two-with-kim-wier-hope-on-demand-podcast/
END:VEVENT
BEGIN:VEVENT
DTSTART;TZID=America/Cancun:20200923T000000
DTEND;TZID=America/Cancun:20200923T000000
DTSTAMP:20260423T123717
CREATED:20201011T220232Z
LAST-MODIFIED:20201011T220232Z
UID:516-1600819200-1600819200@www.wellwithgod.com
SUMMARY:Part ONE with Kim Wier’s\, Hope on Demand Podcast
DESCRIPTION:
URL:https://www.wellwithgod.com/event/part-one-with-kim-wiers-hope-on-demand-podcast/
END:VEVENT
BEGIN:VEVENT
DTSTART;TZID=America/Cancun:20200916T000000
DTEND;TZID=America/Cancun:20200916T000000
DTSTAMP:20260423T123717
CREATED:20201011T214435Z
LAST-MODIFIED:20201011T214435Z
UID:499-1600214400-1600214400@www.wellwithgod.com
SUMMARY:USA Radio Network\, 75-100+ Stations
DESCRIPTION:
URL:https://www.wellwithgod.com/event/usa-radio-network-75-100-stations/
END:VEVENT
BEGIN:VEVENT
DTSTART;TZID=America/Cancun:20200914T000000
DTEND;TZID=America/Cancun:20200914T000000
DTSTAMP:20260423T123717
CREATED:20201011T213105Z
LAST-MODIFIED:20201011T213105Z
UID:492-1600041600-1600041600@www.wellwithgod.com
SUMMARY:KSBJ-FM Podcast Kim Weir
DESCRIPTION:
URL:https://www.wellwithgod.com/event/ksbj-fm-podcast-kim-weir/
LOCATION:Houston\, TX\, Houston\, Texas
END:VEVENT
BEGIN:VEVENT
DTSTART;TZID=America/Cancun:20200903T000000
DTEND;TZID=America/Cancun:20200903T000000
DTSTAMP:20260423T123717
CREATED:20201011T183113Z
LAST-MODIFIED:20201011T220504Z
UID:481-1599091200-1599091200@www.wellwithgod.com
SUMMARY:Debbie Chavez Show
DESCRIPTION:
URL:https://www.wellwithgod.com/event/debbie-chavez-show/
LOCATION:Bellingham\, WA\, WA
END:VEVENT
END:VCALENDAR